BEGIN:VCALENDAR
VERSION:2.0
PRODID:-//wp-events-plugin.com//7.2.3.1//EN
BEGIN:VEVENT
UID:20@hellasqci.eu
DTSTART;VALUE=DATE:20241004
DTEND;VALUE=DATE:20241005
DTSTAMP:20241206T082542Z
URL:https://hellasqci.eu/events/1st-iberian-qci-workshop/
SUMMARY:1st Iberian QCI Workshop
DESCRIPTION:
LOCATION:Teatro Aveirense\, Rua Belém do Pará\, Aveiro\, 3810-009\, Portu
 gal
GEO:40.640718;-8.654164
X-APPLE-STRUCTURED-LOCATION;VALUE=URI;X-ADDRESS=Rua Belém do Pará\, Aveir
 o\, 3810-009\, Portugal;X-APPLE-RADIUS=100;X-TITLE=Teatro Aveirense:geo:40
 .640718,-8.654164
END:VEVENT
END:VCALENDAR