BEGIN:VCALENDAR
VERSION:2.0
PRODID:-//wp-events-plugin.com//7.2.3.1//EN
BEGIN:VEVENT
UID:10@hellasqci.eu
DTSTART;VALUE=DATE:20230918
DTEND;VALUE=DATE:20230920
DTSTAMP:20240418T120906Z
URL:https://hellasqci.eu/events/1st-quantum-key-distribution-qkd-workshop-
 for-researchers/
SUMMARY:1st Quantum Key Distribution (QKD) workshop for researchers
DESCRIPTION:Are you fascinated by the world of quantum cryptography and eag
 er to gain both theoretical knowledge and practical experience in this gro
 undbreaking field? Join us at the 1st Quantum Key Distribution (QKD) works
 hop for researchers\, taking place at National Technical University of Ath
 ens on September 18th and 19th\, 2023\, organized in the frames of HellasQ
 CI project.\n\nThis workshop is designed to provide you with a comprehensi
 ve understanding of QKD\, starting from the fundamental theory and extendi
 ng to the operation of QKD links and networks. Engage in captivating talks
  delivered by leading experts\, where you'll be exposed to the latest adva
 ncements\, breakthroughs\, and cutting-edge technologies in the field.\n\n
 In addition to knowledge sharing\, the workshop offers immersive hands-on 
 demonstrations where you'll have the opportunity to directly interact with
  QKD systems\, algorithms\, and experimental techniques. This practical ex
 perience will not only deepen your understanding\, but also elevate your p
 ractical skills\, enabling you to confidently apply your newfound knowledg
 e in your own research endeavours.\n\nFurthermore\, this workshop provides
  a unique networking platform\, allowing you to connect with a diverse com
 munity of experts\, scholars\, and enthusiasts. Forge invaluable collabora
 tions\, engage in meaningful discussions\, and exchange knowledge with pee
 rs from various backgrounds. The collective intelligence and collaborative
  spirit of this community will propel your knowledge to new heights and op
 en doors to exciting opportunities.\n\nDon't miss out on this exceptional 
 chance to either gain a solid foundation in quantum cryptography or furthe
 r accelerate your knowledge in this captivating field. Join us at the 1st 
 QKD workshop for researchers\, organized in the frames of the HellasQCI pr
 oject\, and together\, we'll pave the way towards a world where secure com
 munication reaches unprecedented levels. Secure your spot now and embark o
 n this transformative journey!\n\nOrganizers\n\n• GRNET S.A.\n• Nation
 al Technical University of Athens\, Electrical and Computer Engineering De
 partment\n• Aristotle University of Thessaloniki\, School of Physics\n
 • National Kapodistrian University of Athens\, Department of Informatics
  and Telecommunications\n• Foundation for Research and Technology\, Hell
 as\n• National Centre for Scientific Research “Demokritos”\n• Spac
 e Hellas S.A.
LOCATION:National Technical University of Athens\, Zografou 157 73\, Zograf
 ou\, 157 73\, Greece
GEO:37.980205;23.768026
X-APPLE-STRUCTURED-LOCATION;VALUE=URI;X-ADDRESS=Zografou 157 73\, Zografou\
 , 157 73\, Greece;X-APPLE-RADIUS=100;X-TITLE=National Technical University
  of Athens:geo:37.980205,23.768026
END:VEVENT
END:VCALENDAR