BEGIN:VCALENDAR
VERSION:2.0
PRODID:-//wp-events-plugin.com//7.2.3.1//EN
BEGIN:VEVENT
UID:17@hellasqci.eu
DTSTART;VALUE=DATE:20240904
DTEND;VALUE=DATE:20240906
DTSTAMP:20240805T101735Z
URL:https://hellasqci.eu/events/3rd-training-event/
SUMMARY:3rd Training Event
DESCRIPTION:The HellasQCI project announces the 3rd Training Event “Quant
 um Key Distribution (QKD) and Cyber Security” which will be held on Sept
 ember 4-5\, 2024 in Heraklion\, Crete\, Greece. The Training is organised 
 by the European co-funded project “HellasQCI – Deploying advanced nati
 onal QCI systems and networks in Greece”\, coordinated by the National I
 nfrastructures for Research and Technology (GRNET)\, operating under the a
 uspices of the Greek Ministry of Digital Governance.\n\nThe purpose of thi
 s event is to train the new generation of engineers in quantum technologie
 s and cybersecurity\, allowing Greece and other countries to be ready for 
 the operation of the European Quantum Communications Infrastructure – Eu
 roQCI. The training focuses on Quantum Key Distribution (QKD) systems\, Cy
 bersecurity and Post-Quantum Cryptography (PQC) issues.\n\nThe event is su
 itable for cybersecurity professionals\, computer scientists and engineers
 \, as well as students\, researchers and academics working in the fields o
 f optical and quantum technologies. The event will feature presentations f
 rom National Quantum Communications Infrastructure (NatQCIs) Projects from
  across Europe.
LOCATION:Foundation for Research and Technology - Hellas\, N. Plastira 100\
 , Heraklion\, GR-700 13\, Greece
GEO:35.335359;25.127871
X-APPLE-STRUCTURED-LOCATION;VALUE=URI;X-ADDRESS=N. Plastira 100\, Heraklion
 \, GR-700 13\, Greece;X-APPLE-RADIUS=100;X-TITLE=Foundation for Research a
 nd Technology - Hellas:geo:35.335359,25.127871
END:VEVENT
END:VCALENDAR