BEGIN:VCALENDAR
VERSION:2.0
PRODID:-//wp-events-plugin.com//7.2.3.1//EN
BEGIN:VEVENT
UID:21@hellasqci.eu
DTSTART:20241105T083000Z
DTEND:20241105T173000Z
DTSTAMP:20241206T083837Z
URL:https://hellasqci.eu/events/danish-quantum-communication-infrastructur
 e-qci-dk-workshop/
SUMMARY:Danish Quantum Communication Infrastructure (QCI.DK) Workshop
DESCRIPTION:
LOCATION:AAU Conference Hall\, Technical University of Denmark Meyers Væng
 e 15\, Copenhagen\, Denmark
GEO:55.650379;12.543183
X-APPLE-STRUCTURED-LOCATION;VALUE=URI;X-ADDRESS=Technical University of Den
 mark Meyers Vænge 15\, Copenhagen\, Denmark;X-APPLE-RADIUS=100;X-TITLE=AA
 U Conference Hall:geo:55.650379,12.543183
END:VEVENT
END:VCALENDAR