BEGIN:VCALENDAR
VERSION:2.0
PRODID:-//wp-events-plugin.com//7.2.3.1//EN
BEGIN:VEVENT
UID:1@hellasqci.eu
DTSTART;VALUE=DATE:20230214
DTEND;VALUE=DATE:20230215
DTSTAMP:20240418T115206Z
URL:https://hellasqci.eu/events/etsi-iqc-quantum-safe-cryptography-event/
SUMMARY:ETSI/IQC Quantum Safe Cryptography Event
DESCRIPTION:HellasQCI: National scale deployment of quantum communications 
 systems and networks\, by Prof. George T. Kanellos\, NKUA\, HellasQCI Tech
 n. Coordinator
LOCATION:ETSI Headquarters\, 650\, Route des Lucioles 06560\, Valbonne - So
 phia Antipolis\, France
GEO:43.616913;7.052849
X-APPLE-STRUCTURED-LOCATION;VALUE=URI;X-ADDRESS=650\, Route des Lucioles 06
 560\, Valbonne - Sophia Antipolis\, France;X-APPLE-RADIUS=100;X-TITLE=ETSI
  Headquarters:geo:43.616913,7.052849
END:VEVENT
END:VCALENDAR