BEGIN:VCALENDAR
VERSION:2.0
PRODID:-//wp-events-plugin.com//7.2.3.1//EN
BEGIN:VEVENT
UID:12@hellasqci.eu
DTSTART;TZID=Europe/Athens:20231025T090000
DTEND;TZID=Europe/Athens:20231025T193000
DTSTAMP:20240418T121305Z
URL:https://hellasqci.eu/events/grnog-15th-meeting-a-gathering-of-minds-to
 -advance-the-greek-internet/
SUMMARY:GRNOG 15th meeting: a gathering of minds to advance the Greek Inter
 net
DESCRIPTION:The Greek Network Operators Group (GRNOG) is a community of pro
 fessionals involved in the design\, implementation\, provisioning\, and op
 eration of Greek Internet services\, networks\, and infrastructure and on 
 the 25th of October 2023\, it is hosting its 15th meeting. \n\nThe meetin
 g will feature a variety of talks and presentations from leading experts i
 n the field\, including #HellasQCI project coordinator Ilias Papastamatiou
  from GRNET\, covering the topic “HellasQCI\, emerging technologies and 
 infrastructures for Quantum Key Distribution (QKD)”.\n\n&nbsp\;\n\nDurin
 g discussions and shared best practices from all members will focus on:\n\
 n&nbsp\;\n\n 	latest developments in network security and routing\n 	deplo
 yment of new technologies such as QKD\n 	future of Data Centers\n 	ways to
  detect anomalies in big sFlow/NetFlow datasets\n 	challenges and opportun
 ities of the ever-evolving digital landscape\n\n\nAttendants will have the
  opportunity to learn from leading experts\, share ideas with their peers 
 and discuss the latest trends and developments in the field of Internet ne
 twork operation. GRNOG 15 is a must-attend event for anyone involved in th
 e operation of the Greek Internet.\n\n&nbsp\;\n\nRegistrations here.\n\n&n
 bsp\;\n\nAgenda here.\n\n&nbsp\;\n\nGRNOG official website https://grnog.g
 r/ 
LOCATION:Stavros Niarchos Foundation Cultural Center\,  Syggrou Avenue 364\
 , Kallithea\,  17674 \, Greece
GEO:37.941451;23.691181
X-APPLE-STRUCTURED-LOCATION;VALUE=URI;X-ADDRESS= Syggrou Avenue 364\, Kalli
 thea\,  17674 \, Greece;X-APPLE-RADIUS=100;X-TITLE=Stavros Niarchos Founda
 tion Cultural Center:geo:37.941451,23.691181
END:VEVENT
BEGIN:VTIMEZONE
TZID:Europe/Athens
X-LIC-LOCATION:Europe/Athens
BEGIN:DAYLIGHT
DTSTART:20230326T040000
TZOFFSETFROM:+0200
TZOFFSETTO:+0300
TZNAME:EEST
END:DAYLIGHT
END:VTIMEZONE
END:VCALENDAR