BEGIN:VCALENDAR
VERSION:2.0
PRODID:-//wp-events-plugin.com//7.2.3.1//EN
BEGIN:VEVENT
UID:16@hellasqci.eu
DTSTART;VALUE=DATE:20240415
DTEND;VALUE=DATE:20240417
DTSTAMP:20240417T112851Z
URL:https://hellasqci.eu/events/hellasqci-participates-in-nostradamus-ait/
SUMMARY:HellasQCI participates in Nostradamus – AIT
DESCRIPTION:
END:VEVENT
END:VCALENDAR