BEGIN:VCALENDAR
VERSION:2.0
PRODID:-//wp-events-plugin.com//7.2.3.1//EN
BEGIN:VEVENT
UID:5@hellasqci.eu
DTSTART;VALUE=DATE:20230414
DTEND;VALUE=DATE:20230415
DTSTAMP:20240417T133048Z
URL:https://hellasqci.eu/events/hellasqci-participates-to-the-geants-infos
 hare-on-the-world-quantum-day-14-april-2023-online/
SUMMARY:HellasQCI participates to the GEANT's InfoShare on the World Quantu
 m Day 14 April 2023 (online)
DESCRIPTION:
LOCATION:https://worldquantumday.org/
END:VEVENT
END:VCALENDAR