BEGIN:VCALENDAR
VERSION:2.0
PRODID:-//wp-events-plugin.com//7.2.3.1//EN
BEGIN:VEVENT
UID:15@hellasqci.eu
DTSTART;VALUE=DATE:20240422
DTEND;VALUE=DATE:20240425
DTSTAMP:20240417T135351Z
URL:https://hellasqci.eu/events/iqt-the-hague-a-quantum-technology-event-f
 eaturing/
SUMMARY:IQT the Hague - A Quantum Technology Event Featuring
DESCRIPTION:
LOCATION:The Postillion Convention Centre\, Waldorpstraat 15\, 2521 CA \, T
 he Hague\, Netherlands
GEO:52.069465;4.324004
X-APPLE-STRUCTURED-LOCATION;VALUE=URI;X-ADDRESS=Waldorpstraat 15\, 2521 CA 
 \, The Hague\, Netherlands;X-APPLE-RADIUS=100;X-TITLE=The Postillion Conve
 ntion Centre:geo:52.069465,4.324004
END:VEVENT
END:VCALENDAR