BEGIN:VCALENDAR
VERSION:2.0
PRODID:-//wp-events-plugin.com//7.2.3.1//EN
BEGIN:VEVENT
UID:23@hellasqci.eu
DTSTART;VALUE=DATE:20241121
DTEND;VALUE=DATE:20241123
DTSTAMP:20241206T085555Z
URL:https://hellasqci.eu/events/migration-to-quantum-safe-workshop/
SUMMARY:Migration to Quantum-Safe Workshop
DESCRIPTION:
LOCATION:Steigenberger Hotel Herrenhof\, Herrengasse 10\, Vienna\, 1010\, A
 ustria
GEO:48.209932;16.366127
X-APPLE-STRUCTURED-LOCATION;VALUE=URI;X-ADDRESS=Herrengasse 10\, Vienna\, 1
 010\, Austria;X-APPLE-RADIUS=100;X-TITLE=Steigenberger Hotel Herrenhof:geo
 :48.209932,16.366127
END:VEVENT
END:VCALENDAR