BEGIN:VCALENDAR
VERSION:2.0
PRODID:-//wp-events-plugin.com//7.2.3.1//EN
BEGIN:VEVENT
UID:18@hellasqci.eu
DTSTART;VALUE=DATE:20240422
DTEND;VALUE=DATE:20240425
DTSTAMP:20241206T080100Z
URL:https://hellasqci.eu/events/nren-qkd-networks-geantinfoshare/
SUMMARY:NREN QKD Networks | GÉANTinfoshare
DESCRIPTION:
LOCATION:Politehnica University of Bucharest\, Splaiul Independenței 313\,
  București\, 060042\, Romania
GEO:44.442031;26.051062
X-APPLE-STRUCTURED-LOCATION;VALUE=URI;X-ADDRESS=Splaiul Independenței 313\
 , București\, 060042\, Romania;X-APPLE-RADIUS=100;X-TITLE=Politehnica Uni
 versity of Bucharest:geo:44.442031,26.051062
END:VEVENT
END:VCALENDAR