BEGIN:VCALENDAR
VERSION:2.0
PRODID:-//wp-events-plugin.com//7.2.3.1//EN
BEGIN:VEVENT
UID:13@hellasqci.eu
DTSTART;VALUE=DATE:20250428
DTEND;VALUE=DATE:20250501
DTSTAMP:20250520T110713Z
URL:https://hellasqci.eu/events/qci-days-2025-athens-greece/
SUMMARY:QCI Days 2025\, Athens\, Greece
DESCRIPTION:\n\nClick here to download the Agenda of the QCI Days 2025 Even
 t.
LOCATION:Eugenides Foundation in Athens\, 387\, Syggrou Avenue\, Palaio Fal
 iro\, 17564\, Greece
GEO:37.940137;23.696434
X-APPLE-STRUCTURED-LOCATION;VALUE=URI;X-ADDRESS=387\, Syggrou Avenue\, Pala
 io Faliro\, 17564\, Greece;X-APPLE-RADIUS=100;X-TITLE=Eugenides Foundation
  in Athens:geo:37.940137,23.696434
END:VEVENT
END:VCALENDAR